BEGIN:VCALENDAR
VERSION:2.0
PRODID:ics.py 0.8.0-dev0 - http://git.io/lLljaA
BEGIN:VTIMEZONE
TZID:/ics.py/2020.1/Etc/UTC
BEGIN:STANDARD
TZOFFSETFROM:+0000
TZOFFSETTO:+0000
RDATE:19700101T000000
TZNAME:UTC
END:STANDARD
LAST-MODIFIED:20200620T153818Z
X-LIC-LOCATION:Etc/UTC
END:VTIMEZONE
BEGIN:VEVENT
DTSTART;TZID=/ics.py/2020.1/Etc/UTC:20260113T190000
DURATION:PT1H
SUMMARY:skimage 2.0 team sync
UID:cd3bb08c-2bd9-4d6d-b0c5-3f4d4de97fb0@cd3b.org
DESCRIPTION:Bringing together the team members working on 2.0 for\nweekly 
 check-ins and planning.\n\nMeeting notes: 
 https://hackmd.io/_lEfDqKRRNCYSXSS4s9uRg\nArchive: 
 https://github.com/scikit-image/skimage-archive/tree/main/meeting-notes
URL:https://numfocus-
 org.zoom.us/j/86509289147?pwd=AXgP0r2sPYdekAyvenjbuztFbFwHvm.1
DTSTAMP:20260425T014827Z
RRULE:FREQ=DAILY;INTERVAL=7;UNTIL=20261201T000000
END:VEVENT
NAME:scikit-image Community Calendar
X-WR-CALNAME:scikit-image Community Calendar
END:VCALENDAR
