BEGIN:VCALENDAR
VERSION:2.0
PRODID:ics.py 0.8.0-dev0 - http://git.io/lLljaA
BEGIN:VTIMEZONE
TZID:/ics.py/2020.1/America/Los_Angeles
BEGIN:DAYLIGHT
TZOFFSETFROM:-0800
TZOFFSETTO:-0700
DTSTART:19700308T020000
RRULE:FREQ=YEARLY;BYMONTH=3;BYDAY=+2SU
RDATE:19700308T020000
TZNAME:PDT
END:DAYLIGHT
BEGIN:STANDARD
TZOFFSETFROM:-0700
TZOFFSETTO:-0800
DTSTART:19701101T020000
RRULE:FREQ=YEARLY;BYMONTH=11;BYDAY=+1SU
RDATE:19701101T020000
TZNAME:PST
END:STANDARD
LAST-MODIFIED:20200620T153818Z
X-LIC-LOCATION:America/Los_Angeles
END:VTIMEZONE
BEGIN:VEVENT
DTSTART;TZID=/ics.py/2020.1/America/Los_Angeles:20250715T090000
DURATION:PT1H
SUMMARY:Scientific Python Learn & Lectures sites
UID:741ee23c-547d-43f6-a64e-915ae5651fc3@741e.org
DESCRIPTION:Discussions around how to organize learning material 
 for\nScientific Python.\n\nMeeting Link: 
 https://berkeley.zoom.us/my/scientificpython\nMeeting notes: 
 https://hackmd.io/zVZtDmAvRduUY5zg0giMkg?both
DTSTAMP:20260425T014827Z
RRULE:FREQ=MONTHLY;BYDAY=3TU;INTERVAL=1
END:VEVENT
BEGIN:VEVENT
DTSTART;TZID=/ics.py/2020.1/America/Los_Angeles:20250902T090000
DURATION:PT1H
SUMMARY:Scientific Python Tools
UID:443ef1db-ad94-4443-aef9-aa1a5848eacd@443e.org
DESCRIPTION:Bimonthly community meeting to discuss and work on tools hosted
  and\nmaintained within the Scientific Python Project.\n\nMeeting Link: 
 https://berkeley.zoom.us/my/scientificpython\nMeeting notes: 
 https://hackmd.io/@bsipocz/SP_tools_meeting
DTSTAMP:20260425T014827Z
RRULE:FREQ=MONTHLY;BYDAY=1TU;INTERVAL=2
END:VEVENT
NAME:Scientific Python Community Calls
X-WR-CALNAME:Scientific Python Community Calls
END:VCALENDAR
