BEGIN:VCALENDAR
VERSION:2.0
PRODID:ics.py 0.8.0-dev0 - http://git.io/lLljaA
BEGIN:VEVENT
DTSTART:20260114T180000Z
DTEND:20260114T190000Z
SUMMARY:NumPy Community Call
UID:aa39d0c9-dc44-4911-8807-76586935ad9d@aa39.org
DESCRIPTION:A fortnightly meeting to share updates on everything\nthat is 
 happening in the NumPy community. Everyone is welcome\nto attend and 
 contribute to a conversation.\n\nTo add to the meeting agenda the topics 
 you’d like to discuss\,\nfollow the link: 
 https://hackmd.io/76o-IxCjQX2mOXO_wwkcpg\n\nJoin us via Zoom: 
 https://numfocus-
 org.zoom.us/j/83278611437?pwd=ekhoLzlHRjdWc0NOY2FQM0NPemdkZz09
URL:https://numfocus-
 org.zoom.us/j/83278611437?pwd=ekhoLzlHRjdWc0NOY2FQM0NPemdkZz09
DTSTAMP:20260425T014827Z
RRULE:FREQ=DAILY;INTERVAL=14;UNTIL=20270101T000000
END:VEVENT
BEGIN:VEVENT
DTSTART:20260107T180000Z
DTEND:20260107T190000Z
SUMMARY:NumPy Triage Call
UID:6dac0430-626f-4613-9e18-0f1ad54758b3@6dac.org
DESCRIPTION:A fortnightly meeting to synchronously triage prioritized PRs 
 and issues.\nEveryone is welcome to attend and contribute to a 
 conversation.\n\nPlease notify us of an issue or PR that you’d like to 
 have triaged/reviewed by adding\na GitHub link to it in the meeting 
 agenda: https://hackmd.io/68i_JvOYQfy9ERiHgXMPvg\n\nJoin us via Zoom: 
 https://numfocus-
 org.zoom.us/j/82096749952?pwd=MW9oUmtKQ1c3a2gydGk1RTdYUUVXZz09
URL:https://numfocus-
 org.zoom.us/j/82096749952?pwd=MW9oUmtKQ1c3a2gydGk1RTdYUUVXZz09
DTSTAMP:20260425T014827Z
RRULE:FREQ=DAILY;INTERVAL=14;UNTIL=20270101T000000
END:VEVENT
BEGIN:VEVENT
DTSTART:20250120T170000Z
DTEND:20250120T180000Z
SUMMARY:NumPy Optimization Team meeting
UID:df0f7e26-a9fd-40a1-af65-e3b6370acd6b@df0f.org
DESCRIPTION:A meeting to discuss everything related\nto NumPy optimization.
  Everyone is welcome to attend\nand contribute to a conversation.\n\nTo 
 add to the meeting agenda the topics you'd like to discuss\,\nfollow the 
 link: https://hackmd.io/dVdSlQ0TThWkOk0OkmGsmw\n\nJoin us via Zoom: 
 https://numfocus-
 org.zoom.us/j/81261288210?pwd=iwV99tGSjR61RTGEERKM4QKxe46g1n.1
URL:https://numfocus-
 org.zoom.us/j/88162122074?pwd=a3h0cTZubzlLcTZzMVhCL1AxUVFMdz09
DTSTAMP:20260425T014827Z
RRULE:FREQ=DAILY;INTERVAL=21;UNTIL=20270101T000000
END:VEVENT
BEGIN:VEVENT
DTSTART:20260430T220000Z
DTEND:20260430T230000Z
SUMMARY:NumPy New Contributors' Hour
UID:81842490-9d4e-48f9-bc7c-e2122ae4dd6a@8184.org
DESCRIPTION:A monthly meeting for new NumPy contributors.\n\nTo add to the 
 meeting agenda the topics you’d like to discuss\,\nfollow the link: 
 https://hackmd.io/3f3otyyuTte3FU9y3QzsLg\n\nJoin us via Zoom: 
 https://numfocus-
 org.zoom.us/j/82563808729?pwd=ZFU3Z2dMcXBGb05YemRsaGE1OW5nQT09
URL:https://numfocus-
 org.zoom.us/j/82563808729?pwd=ZFU3Z2dMcXBGb05YemRsaGE1OW5nQT09
DTSTAMP:20260425T014827Z
RRULE:FREQ=DAILY;INTERVAL=28;UNTIL=20270101T000000
END:VEVENT
NAME:NumPy Community Calendar
X-WR-CALNAME:NumPy Community Calendar
END:VCALENDAR
