BEGIN:VCALENDAR
VERSION:2.0
PRODID:ics.py 0.8.0-dev0 - http://git.io/lLljaA
BEGIN:VTIMEZONE
TZID:/ics.py/2020.1/America/New_York
BEGIN:DAYLIGHT
TZOFFSETFROM:-0500
TZOFFSETTO:-0400
DTSTART:19700308T020000
RRULE:FREQ=YEARLY;BYMONTH=3;BYDAY=+2SU
RDATE:19700308T020000
TZNAME:EDT
END:DAYLIGHT
BEGIN:STANDARD
TZOFFSETFROM:-0400
TZOFFSETTO:-0500
DTSTART:19701101T020000
RRULE:FREQ=YEARLY;BYMONTH=11;BYDAY=+1SU
RDATE:19701101T020000
TZNAME:EST
END:STANDARD
LAST-MODIFIED:20200620T153818Z
X-LIC-LOCATION:America/New_York
END:VTIMEZONE
BEGIN:VEVENT
DTSTART;TZID=/ics.py/2020.1/America/New_York:20250529T120000
DURATION:PT1H
SUMMARY:NetworkX Community Call
UID:4510197d-bace-4ae1-925b-20f58a1c2cc2@4510.org
DESCRIPTION:The NetworkX Community Call.\n\nMeeting link: 
 https://colgate.zoom.us/j/92619161786\nMeeting notes: 
 https://hackmd.io/ea2IhUuqSrG4kM9tokXuEw
URL:https://colgate.zoom.us/j/92619161786
DTSTAMP:20260425T014827Z
RRULE:FREQ=DAILY;INTERVAL=7;UNTIL=20271231T000000
END:VEVENT
NAME:NetworkX Community Calendar
X-WR-CALNAME:NetworkX Community Calendar
END:VCALENDAR
